Workbook

Sheet Inputs
A1: FIRE Backtest - Inputs
A2: Starting Portfolio | B2: 1000000 | C2: At retirement, in that year's dollars
A3: Withdrawal Rate | B3: 0.04 | C3: First-year withdrawal ÷ starting portfolio
A4: Inflation | B4: 0.03 | C4: Withdrawals grow at this rate every year
A5: Retirement Length (years) | B5: 30 | C5: 1 to 50
A6: First-Year Withdrawal | B6: =B2*B3
A7: Data Through | B7: =MAX('Annual Returns'!A4:A157) | C7: Last complete year in the dataset
A9: How it works
A10: Every year from 1872 that has a full retirement of data becomes one test. Each test starts with your portfolio, applies that year's S&P 500 total return, then withdraws your inflated spending. The Results tab counts how many tests never ran out of money. 100% stocks, no fees, nominal returns with a flat inflation assumption.
A15: firenum.com — FIRE planning & calculators

Sheet Results
A1: Backtest Results
A3: Success Rate | B3: =IFERROR(SUM(Backtest!$BB$4:$BB$157)/COUNT(Backtest!$BB$4:$BB$157),"—") | C3: Share of start years that never ran out
A4: Start Years Tested | B4: =COUNT(Backtest!$BB$4:$BB$157) | C4: 1872 through the last year with a full retirement of data
A5: Worst Start Year | B5: =IFERROR(INDEX(Backtest!$A$4:$A$157,MATCH(MIN(Backtest!$BC$4:$BC$157),Backtest!$BC$4:$BC$157,0)),"None failed") | C5: Ran out of money soonest
A6: …Ran Out In Year | B6: =IFERROR(MIN(Backtest!$BC$4:$BC$157),"—")
A7: Best Start Year | B7: =IFERROR(INDEX(Backtest!$A$4:$A$157,MATCH(MAX(Backtest!$BA$4:$BA$157),Backtest!$BA$4:$BA$157,0)),"—") | C7: Highest ending balance
A8: …Ending Balance | B8: =MAX(Backtest!$BA$4:$BA$157)
A9: Median Ending Balance | B9: =IFERROR(MEDIAN(Backtest!$BA$4:$BA$157),"—") | C9: Nominal dollars
A11: Success Rate by Starting Decade
A12: Decade | B12: Success Rate | C12: Start Years Tested
A13: 1870s | B13: =IFERROR(SUMPRODUCT((INT(Backtest!$A$4:$A$157/10)*10=1870)*(Backtest!$BB$4:$BB$157=1))/C13,"—") | C13: =SUMPRODUCT((INT(Backtest!$A$4:$A$157/10)*10=1870)*ISNUMBER(Backtest!$BB$4:$BB$157))
A14: 1880s | B14: =IFERROR(SUMPRODUCT((INT(Backtest!$A$4:$A$157/10)*10=1880)*(Backtest!$BB$4:$BB$157=1))/C14,"—") | C14: =SUMPRODUCT((INT(Backtest!$A$4:$A$157/10)*10=1880)*ISNUMBER(Backtest!$BB$4:$BB$157))
A15: 1890s | B15: =IFERROR(SUMPRODUCT((INT(Backtest!$A$4:$A$157/10)*10=1890)*(Backtest!$BB$4:$BB$157=1))/C15,"—") | C15: =SUMPRODUCT((INT(Backtest!$A$4:$A$157/10)*10=1890)*ISNUMBER(Backtest!$BB$4:$BB$157))
A16: 1900s | B16: =IFERROR(SUMPRODUCT((INT(Backtest!$A$4:$A$157/10)*10=1900)*(Backtest!$BB$4:$BB$157=1))/C16,"—") | C16: =SUMPRODUCT((INT(Backtest!$A$4:$A$157/10)*10=1900)*ISNUMBER(Backtest!$BB$4:$BB$157))
A17: 1910s | B17: =IFERROR(SUMPRODUCT((INT(Backtest!$A$4:$A$157/10)*10=1910)*(Backtest!$BB$4:$BB$157=1))/C17,"—") | C17: =SUMPRODUCT((INT(Backtest!$A$4:$A$157/10)*10=1910)*ISNUMBER(Backtest!$BB$4:$BB$157))
A18: 1920s | B18: =IFERROR(SUMPRODUCT((INT(Backtest!$A$4:$A$157/10)*10=1920)*(Backtest!$BB$4:$BB$157=1))/C18,"—") | C18: =SUMPRODUCT((INT(Backtest!$A$4:$A$157/10)*10=1920)*ISNUMBER(Backtest!$BB$4:$BB$157))
A19: 1930s | B19: =IFERROR(SUMPRODUCT((INT(Backtest!$A$4:$A$157/10)*10=1930)*(Backtest!$BB$4:$BB$157=1))/C19,"—") | C19: =SUMPRODUCT((INT(Backtest!$A$4:$A$157/10)*10=1930)*ISNUMBER(Backtest!$BB$4:$BB$157))
A20: 1940s | B20: =IFERROR(SUMPRODUCT((INT(Backtest!$A$4:$A$157/10)*10=1940)*(Backtest!$BB$4:$BB$157=1))/C20,"—") | C20: =SUMPRODUCT((INT(Backtest!$A$4:$A$157/10)*10=1940)*ISNUMBER(Backtest!$BB$4:$BB$157))
A21: 1950s | B21: =IFERROR(SUMPRODUCT((INT(Backtest!$A$4:$A$157/10)*10=1950)*(Backtest!$BB$4:$BB$157=1))/C21,"—") | C21: =SUMPRODUCT((INT(Backtest!$A$4:$A$157/10)*10=1950)*ISNUMBER(Backtest!$BB$4:$BB$157))
A22: 1960s | B22: =IFERROR(SUMPRODUCT((INT(Backtest!$A$4:$A$157/10)*10=1960)*(Backtest!$BB$4:$BB$157=1))/C22,"—") | C22: =SUMPRODUCT((INT(Backtest!$A$4:$A$157/10)*10=1960)*ISNUMBER(Backtest!$BB$4:$BB$157))
A23: 1970s | B23: =IFERROR(SUMPRODUCT((INT(Backtest!$A$4:$A$157/10)*10=1970)*(Backtest!$BB$4:$BB$157=1))/C23,"—") | C23: =SUMPRODUCT((INT(Backtest!$A$4:$A$157/10)*10=1970)*ISNUMBER(Backtest!$BB$4:$BB$157))
A24: 1980s | B24: =IFERROR(SUMPRODUCT((INT(Backtest!$A$4:$A$157/10)*10=1980)*(Backtest!$BB$4:$BB$157=1))/C24,"—") | C24: =SUMPRODUCT((INT(Backtest!$A$4:$A$157/10)*10=1980)*ISNUMBER(Backtest!$BB$4:$BB$157))
A25: 1990s | B25: =IFERROR(SUMPRODUCT((INT(Backtest!$A$4:$A$157/10)*10=1990)*(Backtest!$BB$4:$BB$157=1))/C25,"—") | C25: =SUMPRODUCT((INT(Backtest!$A$4:$A$157/10)*10=1990)*ISNUMBER(Backtest!$BB$4:$BB$157))
A26: 2000s | B26: =IFERROR(SUMPRODUCT((INT(Backtest!$A$4:$A$157/10)*10=2000)*(Backtest!$BB$4:$BB$157=1))/C26,"—") | C26: =SUMPRODUCT((INT(Backtest!$A$4:$A$157/10)*10=2000)*ISNUMBER(Backtest!$BB$4:$BB$157))
A27: 2010s | B27: =IFERROR(SUMPRODUCT((INT(Backtest!$A$4:$A$157/10)*10=2010)*(Backtest!$BB$4:$BB$157=1))/C27,"—") | C27: =SUMPRODUCT((INT(Backtest!$A$4:$A$157/10)*10=2010)*ISNUMBER(Backtest!$BB$4:$BB$157))
A28: 2020s | B28: =IFERROR(SUMPRODUCT((INT(Backtest!$A$4:$A$157/10)*10=2020)*(Backtest!$BB$4:$BB$157=1))/C28,"—") | C28: =SUMPRODUCT((INT(Backtest!$A$4:$A$157/10)*10=2020)*ISNUMBER(Backtest!$BB$4:$BB$157))
A31: firenum.com — FIRE planning & calculators

Sheet Backtest
A1: Backtest — portfolio balance by retirement start year
A2: Blank rows are start years too recent to complete your retirement length.
A3: Start Year | B3: Year 0 | C3: Year 1 | D3: Year 2 | E3: Year 3 | F3: Year 4 | G3: Year 5 | H3: Year 6 | I3: Year 7 | J3: Year 8 | K3: Year 9 | L3: Year 10 | M3: Year 11 | N3: Year 12 | O3: Year 13 | P3: Year 14 | Q3: Year 15 | R3: Year 16 | S3: Year 17 | T3: Year 18 | U3: Year 19 | V3: Year 20 | W3: Year 21 | X3: Year 22 | Y3: Year 23 | Z3: Year 24 | AA3: Year 25 | AB3: Year 26 | AC3: Year 27 | AD3: Year 28 | AE3: Year 29 | AF3: Year 30 | AG3: Year 31 | AH3: Year 32 | AI3: Year 33 | AJ3: Year 34 | AK3: Year 35 | AL3: Year 36 | AM3: Year 37 | AN3: Year 38 | AO3: Year 39 | AP3: Year 40 | AQ3: Year 41 | AR3: Year 42 | AS3: Year 43 | AT3: Year 44 | AU3: Year 45 | AV3: Year 46 | AW3: Year 47 | AX3: Year 48 | AY3: Year 49 | AZ3: Year 50 | BA3: Ending Balance | BB3: Survived | BC3: Ran Out In Year
A4: 1872 | B4: =IF(OR($A4+Inputs!$B$5-1>Inputs!$B$7,Inputs!$B$5>50),"",Inputs!$B$2) | C4: =IF(OR(1>Inputs!$B$5,$B4=""),"",MAX(0,B4*(1+INDEX('Annual Returns'!$B$4:$B$157,MATCH($A4+0,'Annual Returns'!$A$4:$A$157,0)))-Inputs!$B$2*Inputs!$B$3*(1+Inputs!$B$4)^0)) | D4: =IF(OR(2>Inputs!$B$5,$B4=""),"",MAX(0,C4*(1+INDEX('Annual Returns'!$B$4:$B$157,MATCH($A4+1,'Annual Returns'!$A$4:$A$157,0)))-Inputs!$B$2*Inputs!$B$3*(1+Inputs!$B$4)^1)) | E4: =IF(OR(3>Inputs!$B$5,$B4=""),"",MAX(0,D4*(1+INDEX('Annual Returns'!$B$4:$B$157,MATCH($A4+2,'Annual Returns'!$A$4:$A$157,0)))-Inputs!$B$2*Inputs!$B$3*(1+Inputs!$B$4)^2)) | F4: =IF(OR(4>Inputs!$B$5,$B4=""),"",MAX(0,E4*(1+INDEX('Annual Returns'!$B$4:$B$157,MATCH($A4+3,'Annual Returns'!$A$4:$A$157,0)))-Inputs!$B$2*Inputs!$B$3*(1+Inputs!$B$4)^3)) | G4: =IF(OR(5>Inputs!$B$5,$B4=""),"",MAX(0,F4*(1+INDEX('Annual Returns'!$B$4:$B$157,MATCH($A4+4,'Annual Returns'!$A$4:$A$157,0)))-Inputs!$B$2*Inputs!$B$3*(1+Inputs!$B$4)^4)) | H4: =IF(OR(6>Inputs!$B$5,$B4=""),"",MAX(0,G4*(1+INDEX('Annual Returns'!$B$4:$B$157,MATCH($A4+5,'Annual Returns'!$A$4:$A$157,0)))-Inputs!$B$2*Inputs!$B$3*(1+Inputs!$B$4)^5)) | I4: =IF(OR(7>Inputs!$B$5,$B4=""),"",MAX(0,H4*(1+INDEX('Annual Returns'!$B$4:$B$157,MATCH($A4+6,'Annual Returns'!$A$4:$A$157,0)))-Inputs!$B$2*Inputs!$B$3*(1+Inputs!$B$4)^6)) | J4: =IF(OR(8>Inputs!$B$5,$B4=""),"",MAX(0,I4*(1+INDEX('Annual Returns'!$B$4:$B$157,MATCH($A4+7,'Annual Returns'!$A$4:$A$157,0)))-Inputs!$B$2*Inputs!$B$3*(1+Inputs!$B$4)^7)) | K4: =IF(OR(9>Inputs!$B$5,$B4=""),"",MAX(0,J4*(1+INDEX('Annual Returns'!$B$4:$B$157,MATCH($A4+8,'Annual Returns'!$A$4:$A$157,0)))-Inputs!$B$2*Inputs!$B$3*(1+Inputs!$B$4)^8)) | L4: =IF(OR(10>Inputs!$B$5,$B4=""),"",MAX(0,K4*(1+INDEX('Annual Returns'!$B$4:$B$157,MATCH($A4+9,'Annual Returns'!$A$4:$A$157,0)))-Inputs!$B$2*Inputs!$B$3*(1+Inputs!$B$4)^9)) | M4: =IF(OR(11>Inputs!$B$5,$B4=""),"",MAX(0,L4*(1+INDEX('Annual Returns'!$B$4:$B$157,MATCH($A4+10,'Annual Returns'!$A$4:$A$157,0)))-Inputs!$B$2*Inputs!$B$3*(1+Inputs!$B$4)^10)) | N4: =IF(OR(12>Inputs!$B$5,$B4=""),"",MAX(0,M4*(1+INDEX('Annual Returns'!$B$4:$B$157,MATCH($A4+11,'Annual Returns'!$A$4:$A$157,0)))-Inputs!$B$2*Inputs!$B$3*(1+Inputs!$B$4)^11)) | O4: =IF(OR(13>Inputs!$B$5,$B4=""),"",MAX(0,N4*(1+INDEX('Annual Returns'!$B$4:$B$157,MATCH($A4+12,'Annual Returns'!$A$4:$A$157,0)))-Inputs!$B$2*Inputs!$B$3*(1+Inputs!$B$4)^12)) | P4: =IF(OR(14>Inputs!$B$5,$B4=""),"",MAX(0,O4*(1+INDEX('Annual Returns'!$B$4:$B$157,MATCH($A4+13,'Annual Returns'!$A$4:$A$157,0)))-Inputs!$B$2*Inputs!$B$3*(1+Inputs!$B$4)^13)) | Q4: =IF(OR(15>Inputs!$B$5,$B4=""),"",MAX(0,P4*(1+INDEX('Annual Returns'!$B$4:$B$157,MATCH($A4+14,'Annual Returns'!$A$4:$A$157,0)))-Inputs!$B$2*Inputs!$B$3*(1+Inputs!$B$4)^14)) | R4: =IF(OR(16>Inputs!$B$5,$B4=""),"",MAX(0,Q4*(1+INDEX('Annual Returns'!$B$4:$B$157,MATCH($A4+15,'Annual Returns'!$A$4:$A$157,0)))-Inputs!$B$2*Inputs!$B$3*(1+Inputs!$B$4)^15)) | S4: =IF(OR(17>Inputs!$B$5,$B4=""),"",MAX(0,R4*(1+INDEX('Annual Returns'!$B$4:$B$157,MATCH($A4+16,'Annual Returns'!$A$4:$A$157,0)))-Inputs!$B$2*Inputs!$B$3*(1+Inputs!$B$4)^16)) | T4: =IF(OR(18>Inputs!$B$5,$B4=""),"",MAX(0,S4*(1+INDEX('Annual Returns'!$B$4:$B$157,MATCH($A4+17,'Annual Returns'!$A$4:$A$157,0)))-Inputs!$B$2*Inputs!$B$3*(1+Inputs!$B$4)^17)) | U4: =IF(OR(19>Inputs!$B$5,$B4=""),"",MAX(0,T4*(1+INDEX('Annual Returns'!$B$4:$B$157,MATCH($A4+18,'Annual Returns'!$A$4:$A$157,0)))-Inputs!$B$2*Inputs!$B$3*(1+Inputs!$B$4)^18)) | V4: =IF(OR(20>Inputs!$B$5,$B4=""),"",MAX(0,U4*(1+INDEX('Annual Returns'!$B$4:$B$157,MATCH($A4+19,'Annual Returns'!$A$4:$A$157,0)))-Inputs!$B$2*Inputs!$B$3*(1+Inputs!$B$4)^19)) | W4: =IF(OR(21>Inputs!$B$5,$B4=""),"",MAX(0,V4*(1+INDEX('Annual Returns'!$B$4:$B$157,MATCH($A4+20,'Annual Returns'!$A$4:$A$157,0)))-Inputs!$B$2*Inputs!$B$3*(1+Inputs!$B$4)^20)) | X4: =IF(OR(22>Inputs!$B$5,$B4=""),"",MAX(0,W4*(1+INDEX('Annual Returns'!$B$4:$B$157,MATCH($A4+21,'Annual Returns'!$A$4:$A$157,0)))-Inputs!$B$2*Inputs!$B$3*(1+Inputs!$B$4)^21)) | Y4: =IF(OR(23>Inputs!$B$5,$B4=""),"",MAX(0,X4*(1+INDEX('Annual Returns'!$B$4:$B$157,MATCH($A4+22,'Annual Returns'!$A$4:$A$157,0)))-Inputs!$B$2*Inputs!$B$3*(1+Inputs!$B$4)^22)) | Z4: =IF(OR(24>Inputs!$B$5,$B4=""),"",MAX(0,Y4*(1+INDEX('Annual Returns'!$B$4:$B$157,MATCH($A4+23,'Annual Returns'!$A$4:$A$157,0)))-Inputs!$B$2*Inputs!$B$3*(1+Inputs!$B$4)^23)) | AA4: =IF(OR(25>Inputs!$B$5,$B4=""),"",MAX(0,Z4*(1+INDEX('Annual Returns'!$B$4:$B$157,MATCH($A4+24,'Annual Returns'!$A$4:$A$157,0)))-Inputs!$B$2*Inputs!$B$3*(1+Inputs!$B$4)^24)) | AB4: =IF(OR(26>Inputs!$B$5,$B4=""),"",MAX(0,AA4*(1+INDEX('Annual Returns'!$B$4:$B$157,MATCH($A4+25,'Annual Returns'!$A$4:$A$157,0)))-Inputs!$B$2*Inputs!$B$3*(1+Inputs!$B$4)^25)) | AC4: =IF(OR(27>Inputs!$B$5,$B4=""),"",MAX(0,AB4*(1+INDEX('Annual Returns'!$B$4:$B$157,MATCH($A4+26,'Annual Returns'!$A$4:$A$157,0)))-Inputs!$B$2*Inputs!$B$3*(1+Inputs!$B$4)^26)) | AD4: =IF(OR(28>Inputs!$B$5,$B4=""),"",MAX(0,AC4*(1+INDEX('Annual Returns'!$B$4:$B$157,MATCH($A4+27,'Annual Returns'!$A$4:$A$157,0)))-Inputs!$B$2*Inputs!$B$3*(1+Inputs!$B$4)^27)) | AE4: =IF(OR(29>Inputs!$B$5,$B4=""),"",MAX(0,AD4*(1+INDEX('Annual Returns'!$B$4:$B$157,MATCH($A4+28,'Annual Returns'!$A$4:$A$157,0)))-Inputs!$B$2*Inputs!$B$3*(1+Inputs!$B$4)^28)) | AF4: =IF(OR(30>Inputs!$B$5,$B4=""),"",MAX(0,AE4*(1+INDEX('Annual Returns'!$B$4:$B$157,MATCH($A4+29,'Annual Returns'!$A$4:$A$157,0)))-Inputs!$B$2*Inputs!$B$3*(1+Inputs!$B$4)^29)) | AG4: =IF(OR(31>Inputs!$B$5,$B4=""),"",MAX(0,AF4*(1+INDEX('Annual Returns'!$B$4:$B$157,MATCH($A4+30,'Annual Returns'!$A$4:$A$157,0)))-Inputs!$B$2*Inputs!$B$3*(1+Inputs!$B$4)^30)) | AH4: =IF(OR(32>Inputs!$B$5,$B4=""),"",MAX(0,AG4*(1+INDEX('Annual Returns'!$B$4:$B$157,MATCH($A4+31,'Annual Returns'!$A$4:$A$157,0)))-Inputs!$B$2*Inputs!$B$3*(1+Inputs!$B$4)^31)) | AI4: =IF(OR(33>Inputs!$B$5,$B4=""),"",MAX(0,AH4*(1+INDEX('Annual Returns'!$B$4:$B$157,MATCH($A4+32,'Annual Returns'!$A$4:$A$157,0)))-Inputs!$B$2*Inputs!$B$3*(1+Inputs!$B$4)^32)) | AJ4: =IF(OR(34>Inputs!$B$5,$B4=""),"",MAX(0,AI4*(1+INDEX('Annual Returns'!$B$4:$B$157,MATCH($A4+33,'Annual Returns'!$A$4:$A$157,0)))-Inputs!$B$2*Inputs!$B$3*(1+Inputs!$B$4)^33)) | AK4: =IF(OR(35>Inputs!$B$5,$B4=""),"",MAX(0,AJ4*(1+INDEX('Annual Returns'!$B$4:$B$157,MATCH($A4+34,'Annual Returns'!$A$4:$A$157,0)))-Inputs!$B$2*Inputs!$B$3*(1+Inputs!$B$4)^34)) | AL4: =IF(OR(36>Inputs!$B$5,$B4=""),"",MAX(0,AK4*(1+INDEX('Annual Returns'!$B$4:$B$157,MATCH($A4+35,'Annual Returns'!$A$4:$A$157,0)))-Inputs!$B$2*Inputs!$B$3*(1+Inputs!$B$4)^35)) | AM4: =IF(OR(37>Inputs!$B$5,$B4=""),"",MAX(0,AL4*(1+INDEX('Annual Returns'!$B$4:$B$157,MATCH($A4+36,'Annual Returns'!$A$4:$A$157,0)))-Inputs!$B$2*Inputs!$B$3*(1+Inputs!$B$4)^36)) | AN4: =IF(OR(38>Inputs!$B$5,$B4=""),"",MAX(0,AM4*(1+INDEX('Annual Returns'!$B$4:$B$157,MATCH($A4+37,'Annual Returns'!$A$4:$A$157,0)))-Inputs!$B$2*Inputs!$B$3*(1+Inputs!$B$4)^37)) | AO4: =IF(OR(39>Inputs!$B$5,$B4=""),"",MAX(0,AN4*(1+INDEX('Annual Returns'!$B$4:$B$157,MATCH($A4+38,'Annual Returns'!$A$4:$A$157,0)))-Inputs!$B$2*Inputs!$B$3*(1+Inputs!$B$4)^38)) | AP4: =IF(OR(40>Inputs!$B$5,$B4=""),"",MAX(0,AO4*(1+INDEX('Annual Returns'!$B$4:$B$157,MATCH($A4+39,'Annual Returns'!$A$4:$A$157,0)))-Inputs!$B$2*Inputs!$B$3*(1+Inputs!$B$4)^39)) | AQ4: =IF(OR(41>Inputs!$B$5,$B4=""),"",MAX(0,AP4*(1+INDEX('Annual Returns'!$B$4:$B$157,MATCH($A4+40,'Annual Returns'!$A$4:$A$157,0)))-Inputs!$B$2*Inputs!$B$3*(1+Inputs!$B$4)^40)) | AR4: =IF(OR(42>Inputs!$B$5,$B4=""),"",MAX(0,AQ4*(1+INDEX('Annual Returns'!$B$4:$B$157,MATCH($A4+41,'Annual Returns'!$A$4:$A$157,0)))-Inputs!$B$2*Inputs!$B$3*(1+Inputs!$B$4)^41)) | AS4: =IF(OR(43>Inputs!$B$5,$B4=""),"",MAX(0,AR4*(1+INDEX('Annual Returns'!$B$4:$B$157,MATCH($A4+42,'Annual Returns'!$A$4:$A$157,0)))-Inputs!$B$2*Inputs!$B$3*(1+Inputs!$B$4)^42)) | AT4: =IF(OR(44>Inputs!$B$5,$B4=""),"",MAX(0,AS4*(1+INDEX('Annual Returns'!$B$4:$B$157,MATCH($A4+43,'Annual Returns'!$A$4:$A$157,0)))-Inputs!$B$2*Inputs!$B$3*(1+Inputs!$B$4)^43)) | AU4: =IF(OR(45>Inputs!$B$5,$B4=""),"",MAX(0,AT4*(1+INDEX('Annual Returns'!$B$4:$B$157,MATCH($A4+44,'Annual Returns'!$A$4:$A$157,0)))-Inputs!$B$2*Inputs!$B$3*(1+Inputs!$B$4)^44)) | AV4: =IF(OR(46>Inputs!$B$5,$B4=""),"",MAX(0,AU4*(1+INDEX('Annual Returns'!$B$4:$B$157,MATCH($A4+45,'Annual Returns'!$A$4:$A$157,0)))-Inputs!$B$2*Inputs!$B$3*(1+Inputs!$B$4)^45)) | AW4: =IF(OR(47>Inputs!$B$5,$B4=""),"",MAX(0,AV4*(1+INDEX('Annual Returns'!$B$4:$B$157,MATCH($A4+46,'Annual Returns'!$A$4:$A$157,0)))-Inputs!$B$2*Inputs!$B$3*(1+Inputs!$B$4)^46)) | AX4: =IF(OR(48>Inputs!$B$5,$B4=""),"",MAX(0,AW4*(1+INDEX('Annual Returns'!$B$4:$B$157,MATCH($A4+47,'Annual Returns'!$A$4:$A$157,0)))-Inputs!$B$2*Inputs!$B$3*(1+Inputs!$B$4)^47)) | AY4: =IF(OR(49>Inputs!$B$5,$B4=""),"",MAX(0,AX4*(1+INDEX('Annual Returns'!$B$4:$B$157,MATCH($A4+48,'Annual Returns'!$A$4:$A$157,0)))-Inputs!$B$2*Inputs!$B$3*(1+Inputs!$B$4)^48)) | AZ4: =IF(OR(50>Inputs!$B$5,$B4=""),"",MAX(0,AY4*(1+INDEX('Annual Returns'!$B$4:$B$157,MATCH($A4+49,'Annual Returns'!$A$4:$A$157,0)))-Inputs!$B$2*Inputs!$B$3*(1+Inputs!$B$4)^49)) | BA4: =IF(B4="","",INDEX(C4:AZ4,Inputs!$B$5)) | BB4: =IF(BA4="","",IF(BA4>0,1,0)) | BC4: =IF(BB4="","",IF(BB4=1,"",MATCH(0,C4:AZ4,0)))
A5: 1873 | B5: =IF(OR($A5+Inputs!$B$5-1>Inputs!$B$7,Inputs!$B$5>50),"",Inputs!$B$2) | C5: =IF(OR(1>Inputs!$B$5,$B5=""),"",MAX(0,B5*(1+INDEX('Annual Returns'!$B$4:$B$157,MATCH($A5+0,'Annual Returns'!$A$4:$A$157,0)))-Inputs!$B$2*Inputs!$B$3*(1+Inputs!$B$4)^0)) | D5: =IF(OR(2>Inputs!$B$5,$B5=""),"",MAX(0,C5*(1+INDEX('Annual Returns'!$B$4:$B$157,MATCH($A5+1,'Annual Returns'!$A$4:$A$157,0)))-Inputs!$B$2*Inputs!$B$3*(1+Inputs!$B$4)^1)) | E5: =IF(OR(3>Inputs!$B$5,$B5=""),"",MAX(0,D5*(1+INDEX('Annual Returns'!$B$4:$B$157,MATCH($A5+2,'Annual Returns'!$A$4:$A$157,0)))-Inputs!$B$2*Inputs!$B$3*(1+Inputs!$B$4)^2)) | F5: =IF(OR(4>Inputs!$B$5,$B5=""),"",MAX(0,E5*(1+INDEX('Annual Returns'!$B$4:$B$157,MATCH($A5+3,'Annual Returns'!$A$4:$A$157,0)))-Inputs!$B$2*Inputs!$B$3*(1+Inputs!$B$4)^3)) | G5: =IF(OR(5>Inputs!$B$5,$B5=""),"",MAX(0,F5*(1+INDEX('Annual Returns'!$B$4:$B$157,MATCH($A5+4,'Annual Returns'!$A$4:$A$157,0)))-Inputs!$B$2*Inputs!$B$3*(1+Inputs!$B$4)^4)) | H5: =IF(OR(6>Inputs!$B$5,$B5=""),"",MAX(0,G5*(1+INDEX('Annual Returns'!$B$4:$B$157,MATCH($A5+5,'Annual Returns'!$A$4:$A$157,0)))-Inputs!$B$2*Inputs!$B$3*(1+Inputs!$B$4)^5)) | I5: =IF(OR(7>Inputs!$B$5,$B5=""),"",MAX(0,H5*(1+INDEX('Annual Returns'!$B$4:$B$157,MATCH($A5+6,'Annual Returns'!$A$4:$A$157,0)))-Inputs!$B$2*Inputs!$B$3*(1+Inputs!$B$4)^6)) | J5: =IF(OR(8>Inputs!$B$5,$B5=""),"",MAX(0,I5*(1+INDEX('Annual Returns'!$B$4:$B$157,MATCH($A5+7,'Annual Returns'!$A$4:$A$157,0)))-Inputs!$B$2*Inputs!$B$3*(1+Inputs!$B$4)^7)) | K5: =IF(OR(9>Inputs!$B$5,$B5=""),"",MAX(0,J5*(1+INDEX('Annual Returns'!$B$4:$B$157,MATCH($A5+8,'Annual Returns'!$A$4:$A$157,0)))-Inputs!$B$2*Inputs!$B$3*(1+Inputs!$B$4)^8)) | L5: =IF(OR(10>Inputs!$B$5,$B5=""),"",MAX(0,K5*(1+INDEX('Annual Returns'!$B$4:$B$157,MATCH($A5+9,'Annual Returns'!$A$4:$A$157,0)))-Inputs!$B$2*Inputs!$B$3*(1+Inputs!$B$4)^9)) | M5: =IF(OR(11>Inputs!$B$5,$B5=""),"",MAX(0,L5*(1+INDEX('Annual Returns'!$B$4:$B$157,MATCH($A5+10,'Annual Returns'!$A$4:$A$157,0)))-Inputs!$B$2*Inputs!$B$3*(1+Inputs!$B$4)^10)) | N5: =IF(OR(12>Inputs!$B$5,$B5=""),"",MAX(0,M5*(1+INDEX('Annual Returns'!$B$4:$B$157,MATCH($A5+11,'Annual Returns'!$A$4:$A$157,0)))-Inputs!$B$2*Inputs!$B$3*(1+Inputs!$B$4)^11)) | O5: =IF(OR(13>Inputs!$B$5,$B5=""),"",MAX(0,N5*(1+INDEX('Annual Returns'!$B$4:$B$157,MATCH($A5+12,'Annual Returns'!$A$4:$A$157,0)))-Inputs!$B$2*Inputs!$B$3*(1+Inputs!$B$4)^12)) | P5: =IF(OR(14>Inputs!$B$5,$B5=""),"",MAX(0,O5*(1+INDEX('Annual Returns'!$B$4:$B$157,MATCH($A5+13,'Annual Returns'!$A$4:$A$157,0)))-Inputs!$B$2*Inputs!$B$3*(1+Inputs!$B$4)^13)) | Q5: =IF(OR(15>Inputs!$B$5,$B5=""),"",MAX(0,P5*(1+INDEX('Annual Returns'!$B$4:$B$157,MATCH($A5+14,'Annual Returns'!$A$4:$A$157,0)))-Inputs!$B$2*Inputs!$B$3*(1+Inputs!$B$4)^14)) | R5: =IF(OR(16>Inputs!$B$5,$B5=""),"",MAX(0,Q5*(1+INDEX('Annual Returns'!$B$4:$B$157,MATCH($A5+15,'Annual Returns'!$A$4:$A$157,0)))-Inputs!$B$2*Inputs!$B$3*(1+Inputs!$B$4)^15)) | S5: =IF(OR(17>Inputs!$B$5,$B5=""),"",MAX(0,R5*(1+INDEX('Annual Returns'!$B$4:$B$157,MATCH($A5+16,'Annual Returns'!$A$4:$A$157,0)))-Inputs!$B$2*Inputs!$B$3*(1+Inputs!$B$4)^16)) | T5: =IF(OR(18>Inputs!$B$5,$B5=""),"",MAX(0,S5*(1+INDEX('Annual Returns'!$B$4:$B$157,MATCH($A5+17,'Annual Returns'!$A$4:$A$157,0)))-Inputs!$B$2*Inputs!$B$3*(1+Inputs!$B$4)^17)) | U5: =IF(OR(19>Inputs!$B$5,$B5=""),"",MAX(0,T5*(1+INDEX('Annual Returns'!$B$4:$B$157,MATCH($A5+18,'Annual Returns'!$A$4:$A$157,0)))-Inputs!$B$2*Inputs!$B$3*(1+Inputs!$B$4)^18)) | V5: =IF(OR(20>Inputs!$B$5,$B5=""),"",MAX(0,U5*(1+INDEX('Annual Returns'!$B$4:$B$157,MATCH($A5+19,'Annual Returns'!$A$4:$A$157,0)))-Inputs!$B$2*Inputs!$B$3*(1+Inputs!$B$4)^19)) | W5: =IF(OR(21>Inputs!$B$5,$B5=""),"",MAX(0,V5*(1+INDEX('Annual Returns'!$B$4:$B$157,MATCH($A5+20,'Annual Returns'!$A$4:$A$157,0)))-Inputs!$B$2*Inputs!$B$3*(1+Inputs!$B$4)^20)) | X5: =IF(OR(22>Inputs!$B$5,$B5=""),"",MAX(0,W5*(1+INDEX('Annual Returns'!$B$4:$B$157,MATCH($A5+21,'Annual Returns'!$A$4:$A$157,0)))-Inputs!$B$2*Inputs!$B$3*(1+Inputs!$B$4)^21)) | Y5: =IF(OR(23>Inputs!$B$5,$B5=""),"",MAX(0,X5*(1+INDEX('Annual Returns'!$B$4:$B$157,MATCH($A5+22,'Annual Returns'!$A$4:$A$157,0)))-Inputs!$B$2*Inputs!$B$3*(1+Inputs!$B$4)^22)) | Z5: =IF(OR(24>Inputs!$B$5,$B5=""),"",MAX(0,Y5*(1+INDEX('Annual Returns'!$B$4:$B$157,MATCH($A5+23,'Annual Returns'!$A$4:$A$157,0)))-Inputs!$B$2*Inputs!$B$3*(1+Inputs!$B$4)^23)) | AA5: =IF(OR(25>Inputs!$B$5,$B5=""),"",MAX(0,Z5*(1+INDEX('Annual Returns'!$B$4:$B$157,MATCH($A5+24,'Annual Returns'!$A$4:$A$157,0)))-Inputs!$B$2*Inputs!$B$3*(1+Inputs!$B$4)^24)) | AB5: =IF(OR(26>Inputs!$B$5,$B5=""),"",MAX(0,AA5*(1+INDEX('Annual Returns'!$B$4:$B$157,MATCH($A5+25,'Annual Returns'!$A$4:$A$157,0)))-Inputs!$B$2*Inputs!$B$3*(1+Inputs!$B$4)^25)) | AC5: =IF(OR(27>Inputs!$B$5,$B5=""),"",MAX(0,AB5*(1+INDEX('Annual Returns'!$B$4:$B$157,MATCH($A5+26,'Annual Returns'!$A$4:$A$157,0)))-Inputs!$B$2*Inputs!$B$3*(1+Inputs!$B$4)^26)) | AD5: =IF(OR(28>Inputs!$B$5,$B5=""),"",MAX(0,AC5*(1+INDEX('Annual Returns'!$B$4:$B$157,MATCH($A5+27,'Annual Returns'!$A$4:$A$157,0)))-Inputs!$B$2*Inputs!$B$3*(1+Inputs!$B$4)^27)) | AE5: =IF(OR(29>Inputs!$B$5,$B5=""),"",MAX(0,AD5*(1+INDEX('Annual Returns'!$B$4:$B$157,MATCH($A5+28,'Annual Returns'!$A$4:$A$157,0)))-Inputs!$B$2*Inputs!$B$3*(1+Inputs!$B$4)^28)) | AF5: =IF(OR(30>Inputs!$B$5,$B5=""),"",MAX(0,AE5*(1+INDEX('Annual Returns'!$B$4:$B$157,MATCH($A5+29,'Annual Returns'!$A$4:$A$157,0)))-Inputs!$B$2*Inputs!$B$3*(1+Inputs!$B$4)^29)) | AG5: =IF(OR(31>Inputs!$B$5,$B5=""),"",MAX(0,AF5*(1+INDEX('Annual Returns'!$B$4:$B$157,MATCH($A5+30,'Annual Returns'!$A$4:$A$157,0)))-Inputs!$B$2*Inputs!$B$3*(1+Inputs!$B$4)^30)) | AH5: =IF(OR(32>Inputs!$B$5,$B5=""),"",MAX(0,AG5*(1+INDEX('Annual Returns'!$B$4:$B$157,MATCH($A5+31,'Annual Returns'!$A$4:$A$157,0)))-Inputs!$B$2*Inputs!$B$3*(1+Inputs!$B$4)^31)) | AI5: =IF(OR(33>Inputs!$B$5,$B5=""),"",MAX(0,AH5*(1+INDEX('Annual Returns'!$B$4:$B$157,MATCH($A5+32,'Annual Returns'!$A$4:$A$157,0)))-Inputs!$B$2*Inputs!$B$3*(1+Inputs!$B$4)^32)) | AJ5: =IF(OR(34>Inputs!$B$5,$B5=""),"",MAX(0,AI5*(1+INDEX('Annual Returns'!$B$4:$B$157,MATCH($A5+33,'Annual Returns'!$A$4:$A$157,0)))-Inputs!$B$2*Inputs!$B$3*(1+Inputs!$B$4)^33)) | AK5: =IF(OR(35>Inputs!$B$5,$B5=""),"",MAX(0,AJ5*(1+INDEX('Annual Returns'!$B$4:$B$157,MATCH($A5+34,'Annual Returns'!$A$4:$A$157,0)))-Inputs!$B$2*Inputs!$B$3*(1+Inputs!$B$4)^34)) | AL5: =IF(OR(36>Inputs!$B$5,$B5=""),"",MAX(0,AK5*(1+INDEX('Annual Returns'!$B$4:$B$157,MATCH($A5+35,'Annual Returns'!$A$4:$A$157,0)))-Inputs!$B$2*Inputs!$B$3*(1+Inputs!$B$4)^35)) | AM5: =IF(OR(37>Inputs!$B$5,$B5=""),"",MAX(0,AL5*(1+INDEX('Annual Returns'!$B$4:$B$157,MATCH($A5+36,'Annual Returns'!$A$4:$A$157,0)))-Inputs!$B$2*Inputs!$B$3*(1+Inputs!$B$4)^36)) | AN5: =IF(OR(38>Inputs!$B$5,$B5=""),"",MAX(0,AM5*(1+INDEX('Annual Returns'!$B$4:$B$157,MATCH($A5+37,'Annual Returns'!$A$4:$A$157,0)))-Inputs!$B$2*Inputs!$B$3*(1+Inputs!$B$4)^37)) | AO5: =IF(OR(39>Inputs!$B$5,$B5=""),"",MAX(0,AN5*(1+INDEX('Annual Returns'!$B$4:$B$157,MATCH($A5+38,'Annual Returns'!$A$4:$A$157,0)))-Inputs!$B$2*Inputs!$B$3*(1+Inputs!$B$4)^38)) | AP5: =IF(OR(40>Inputs!$B$5,$B5=""),"",MAX(0,AO5*(1+INDEX('Annual Returns'!$B$4:$B$157,MATCH($A5+39,'Annual Returns'!$A$4:$A$157,0)))-Inputs!$B$2*Inputs!$B$3*(1+Inputs!$B$4)^39)) | AQ5: =IF(OR(41>Inputs!$B$5,$B5=""),"",MAX(0,AP5*(1+INDEX('Annual Returns'!$B$4:$B$157,MATCH($A5+40,'Annual Returns'!$A$4:$A$157,0)))-Inputs!$B$2*Inputs!$B$3*(1+Inputs!$B$4)^40)) | AR5: =IF(OR(42>Inputs!$B$5,$B5=""),"",MAX(0,AQ5*(1+INDEX('Annual Returns'!$B$4:$B$157,MATCH($A5+41,'Annual Returns'!$A$4:$A$157,0)))-Inputs!$B$2*Inputs!$B$3*(1+Inputs!$B$4)^41)) | AS5: =IF(OR(43>Inputs!$B$5,$B5=""),"",MAX(0,AR5*(1+INDEX('Annual Returns'!$B$4:$B$157,MATCH($A5+42,'Annual Returns'!$A$4:$A$157,0)))-Inputs!$B$2*Inputs!$B$3*(1+Inputs!$B$4)^42)) | AT5: =IF(OR(44>Inputs!$B$5,$B5=""),"",MAX(0,AS5*(1+INDEX('Annual Returns'!$B$4:$B$157,MATCH($A5+43,'Annual Returns'!$A$4:$A$157,0)))-Inputs!$B$2*Inputs!$B$3*(1+Inputs!$B$4)^43)) | AU5: =IF(OR(45>Inputs!$B$5,$B5=""),"",MAX(0,AT5*(1+INDEX('Annual Returns'!$B$4:$B$157,MATCH($A5+44,'Annual Returns'!$A$4:$A$157,0)))-Inputs!$B$2*Inputs!$B$3*(1+Inputs!$B$4)^44)) | AV5: =IF(OR(46>Inputs!$B$5,$B5=""),"",MAX(0,AU5*(1+INDEX('Annual Returns'!$B$4:$B$157,MATCH($A5+45,'Annual Returns'!$A$4:$A$157,0)))-Inputs!$B$2*Inputs!$B$3*(1+Inputs!$B$4)^45)) | AW5: =IF(OR(47>Inputs!$B$5,$B5=""),"",MAX(0,AV5*(1+INDEX('Annual Returns'!$B$4:$B$157,MATCH($A5+46,'Annual Returns'!$A$4:$A$157,0)))-Inputs!$B$2*Inputs!$B$3*(1+Inputs!$B$4)^46)) | AX5: =IF(OR(48>Inputs!$B$5,$B5=""),"",MAX(0,AW5*(1+INDEX('Annual Returns'!$B$4:$B$157,MATCH($A5+47,'Annual Returns'!$A$4:$A$157,0)))-Inputs!$B$2*Inputs!$B$3*(1+Inputs!$B$4)^47)) | AY5: =IF(OR(49>Inputs!$B$5,$B5=""),"",MAX(0,AX5*(1+INDEX('Annual Returns'!$B$4:$B$157,MATCH($A5+48,'Annual Returns'!$A$4:$A$157,0)))-Inputs!$B$2*Inputs!$B$3*(1+Inputs!$B$4)^48)) | AZ5: =IF(OR(50>Inputs!$B$5,$B5=""),"",MAX(0,AY5*(1+INDEX('Annual Returns'!$B$4:$B$157,MATCH($A5+49,'Annual Returns'!$A$4:$A$157,0)))-Inputs!$B$2*Inputs!$B$3*(1+Inputs!$B$4)^49)) | BA5: =IF(B5="","",INDEX(C5:AZ5,Inputs!$B$5)) | BB5: =IF(BA5="","",IF(BA5>0,1,0)) | BC5: =IF(BB5="","",IF(BB5=1,"",MATCH(0,C5:AZ5,0)))
A6: 1874 | B6: =IF(OR($A6+Inputs!$B$5-1>Inputs!$B$7,Inputs!$B$5>50),"",Inputs!$B$2) | C6: =IF(OR(1>Inputs!$B$5,$B6=""),"",MAX(0,B6*(1+INDEX('Annual Returns'!$B$4:$B$157,MATCH($A6+0,'Annual Returns'!$A$4:$A$157,0)))-Inputs!$B$2*Inputs!$B$3*(1+Inputs!$B$4)^0)) | D6: =IF(OR(2>Inputs!$B$5,$B6=""),"",MAX(0,C6*(1+INDEX('Annual Returns'!$B$4:$B$157,MATCH($A6+1,'Annual Returns'!$A$4:$A$157,0)))-Inputs!$B$2*Inputs!$B$3*(1+Inputs!$B$4)^1)) | E6: =IF(OR(3>Inputs!$B$5,$B6=""),"",MAX(0,D6*(1+INDEX('Annual Returns'!$B$4:$B$157,MATCH($A6+2,'Annual Returns'!$A$4:$A$157,0)))-Inputs!$B$2*Inputs!$B$3*(1+Inputs!$B$4)^2)) | F6: =IF(OR(4>Inputs!$B$5,$B6=""),"",MAX(0,E6*(1+INDEX('Annual Returns'!$B$4:$B$157,MATCH($A6+3,'Annual Returns'!$A$4:$A$157,0)))-Inputs!$B$2*Inputs!$B$3*(1+Inputs!$B$4)^3)) | G6: =IF(OR(5>Inputs!$B$5,$B6=""),"",MAX(0,F6*(1+INDEX('Annual Returns'!$B$4:$B$157,MATCH($A6+4,'Annual Returns'!$A$4:$A$157,0)))-Inputs!$B$2*Inputs!$B$3*(1+Inputs!$B$4)^4)) | H6: =IF(OR(6>Inputs!$B$5,$B6=""),"",MAX(0,G6*(1+INDEX('Annual Returns'!$B$4:$B$157,MATCH($A6+5,'Annual Returns'!$A$4:$A$157,0)))-Inputs!$B$2*Inputs!$B$3*(1+Inputs!$B$4)^5)) | I6: =IF(OR(7>Inputs!$B$5,$B6=""),"",MAX(0,H6*(1+INDEX('Annual Returns'!$B$4:$B$157,MATCH($A6+6,'Annual Returns'!$A$4:$A$157,0)))-Inputs!$B$2*Inputs!$B$3*(1+Inputs!$B$4)^6)) | J6: =IF(OR(8>Inputs!$B$5,$B6=""),"",MAX(0,I6*(1+INDEX('Annual Returns'!$B$4:$B$157,MATCH($A6+7,'Annual Returns'!$A$4:$A$157,0)))-Inputs!$B$2*Inputs!$B$3*(1+Inputs!$B$4)^7)) | K6: =IF(OR(9>Inputs!$B$5,$B6=""),"",MAX(0,J6*(1+INDEX('Annual Returns'!$B$4:$B$157,MATCH($A6+8,'Annual Returns'!$A$4:$A$157,0)))-Inputs!$B$2*Inputs!$B$3*(1+Inputs!$B$4)^8)) | L6: =IF(OR(10>Inputs!$B$5,$B6=""),"",MAX(0,K6*(1+INDEX('Annual Returns'!$B$4:$B$157,MATCH($A6+9,'Annual Returns'!$A$4:$A$157,0)))-Inputs!$B$2*Inputs!$B$3*(1+Inputs!$B$4)^9)) | M6: =IF(OR(11>Inputs!$B$5,$B6=""),"",MAX(0,L6*(1+INDEX('Annual Returns'!$B$4:$B$157,MATCH($A6+10,'Annual Returns'!$A$4:$A$157,0)))-Inputs!$B$2*Inputs!$B$3*(1+Inputs!$B$4)^10)) | N6: =IF(OR(12>Inputs!$B$5,$B6=""),"",MAX(0,M6*(1+INDEX('Annual Returns'!$B$4:$B$157,MATCH($A6+11,'Annual Returns'!$A$4:$A$157,0)))-Inputs!$B$2*Inputs!$B$3*(1+Inputs!$B$4)^11)) | O6: =IF(OR(13>Inputs!$B$5,$B6=""),"",MAX(0,N6*(1+INDEX('Annual Returns'!$B$4:$B$157,MATCH($A6+12,'Annual Returns'!$A$4:$A$157,0)))-Inputs!$B$2*Inputs!$B$3*(1+Inputs!$B$4)^12)) | P6: =IF(OR(14>Inputs!$B$5,$B6=""),"",MAX(0,O6*(1+INDEX('Annual Returns'!$B$4:$B$157,MATCH($A6+13,'Annual Returns'!$A$4:$A$157,0)))-Inputs!$B$2*Inputs!$B$3*(1+Inputs!$B$4)^13)) | Q6: =IF(OR(15>Inputs!$B$5,$B6=""),"",MAX(0,P6*(1+INDEX('Annual Returns'!$B$4:$B$157,MATCH($A6+14,'Annual Returns'!$A$4:$A$157,0)))-Inputs!$B$2*Inputs!$B$3*(1+Inputs!$B$4)^14)) | R6: =IF(OR(16>Inputs!$B$5,$B6=""),"",MAX(0,Q6*(1+INDEX('Annual Returns'!$B$4:$B$157,MATCH($A6+15,'Annual Returns'!$A$4:$A$157,0)))-Inputs!$B$2*Inputs!$B$3*(1+Inputs!$B$4)^15)) | S6: =IF(OR(17>Inputs!$B$5,$B6=""),"",MAX(0,R6*(1+INDEX('Annual Returns'!$B$4:$B$157,MATCH($A6+16,'Annual Returns'!$A$4:$A$157,0)))-Inputs!$B$2*Inputs!$B$3*(1+Inputs!$B$4)^16)) | T6: =IF(OR(18>Inputs!$B$5,$B6=""),"",MAX(0,S6*(1+INDEX('Annual Returns'!$B$4:$B$157,MATCH($A6+17,'Annual Returns'!$A$4:$A$157,0)))-Inputs!$B$2*Inputs!$B$3*(1+Inputs!$B$4)^17)) | U6: =IF(OR(19>Inputs!$B$5,$B6=""),"",MAX(0,T6*(1+INDEX('Annual Returns'!$B$4:$B$157,MATCH($A6+18,'Annual Returns'!$A$4:$A$157,0)))-Inputs!$B$2*Inputs!$B$3*(1+Inputs!$B$4)^18)) | V6: =IF(OR(20>Inputs!$B$5,$B6=""),"",MAX(0,U6*(1+INDEX('Annual Returns'!$B$4:$B$157,MATCH($A6+19,'Annual Returns'!$A$4:$A$157,0)))-Inputs!$B$2*Inputs!$B$3*(1+Inputs!$B$4)^19)) | W6: =IF(OR(21>Inputs!$B$5,$B6=""),"",MAX(0,V6*(1+INDEX('Annual Returns'!$B$4:$B$157,MATCH($A6+20,'Annual Returns'!$A$4:$A$157,0)))-Inputs!$B$2*Inputs!$B$3*(1+Inputs!$B$4)^20)) | X6: =IF(OR(22>Inputs!$B$5,$B6=""),"",MAX(0,W6*(1+INDEX('Annual Returns'!$B$4:$B$157,MATCH($A6+21,'Annual Returns'!$A$4:$A$157,0)))-Inputs!$B$2*Inputs!$B$3*(1+Inputs!$B$4)^21)) | Y6: =IF(OR(23>Inputs!$B$5,$B6=""),"",MAX(0,X6*(1+INDEX('Annual Returns'!$B$4:$B$157,MATCH($A6+22,'Annual Returns'!$A$4:$A$157,0)))-Inputs!$B$2*Inputs!$B$3*(1+Inputs!$B$4)^22)) | Z6: =IF(OR(24>Inputs!$B$5,$B6=""),"",MAX(0,Y6*(1+INDEX('Annual Returns'!$B$4:$B$157,MATCH($A6+23,'Annual Returns'!$A$4:$A$157,0)))-Inputs!$B$2*Inputs!$B$3*(1+Inputs!$B$4)^23)) | AA6: =IF(OR(25>Inputs!$B$5,$B6=""),"",MAX(0,Z6*(1+INDEX('Annual Returns'!$B$4:$B$157,MATCH($A6+24,'Annual Returns'!$A$4:$A$157,0)))-Inputs!$B$2*Inputs!$B$3*(1+Inputs!$B$4)^24)) | AB6: =IF(OR(26>Inputs!$B$5,$B6=""),"",MAX(0,AA6*(1+INDEX('Annual Returns'!$B$4:$B$157,MATCH($A6+25,'Annual Returns'!$A$4:$A$157,0)))-Inputs!$B$2*Inputs!$B$3*(1+Inputs!$B$4)^25)) | AC6: =IF(OR(27>Inputs!$B$5,$B6=""),"",MAX(0,AB6*(1+INDEX('Annual Returns'!$B$4:$B$157,MATCH($A6+26,'Annual Returns'!$A$4:$A$157,0)))-Inputs!$B$2*Inputs!$B$3*(1+Inputs!$B$4)^26)) | AD6: =IF(OR(28>Inputs!$B$5,$B6=""),"",MAX(0,AC6*(1+INDEX('Annual Returns'!$B$4:$B$157,MATCH($A6+27,'Annual Returns'!$A$4:$A$157,0)))-Inputs!$B$2*Inputs!$B$3*(1+Inputs!$B$4)^27)) | AE6: =IF(OR(29>Inputs!$B$5,$B6=""),"",MAX(0,AD6*(1+INDEX('Annual Returns'!$B$4:$B$157,MATCH($A6+28,'Annual Returns'!$A$4:$A$157,0)))-Inputs!$B$2*Inputs!$B$3*(1+Inputs!$B$4)^28)) | AF6: =IF(OR(30>Inputs!$B$5,$B6=""),"",MAX(0,AE6*(1+INDEX('Annual Returns'!$B$4:$B$157,MATCH($A6+29,'Annual Returns'!$A$4:$A$157,0)))-Inputs!$B$2*Inputs!$B$3*(1+Inputs!$B$4)^29)) | AG6: =IF(OR(31>Inputs!$B$5,$B6=""),"",MAX(0,AF6*(1+INDEX('Annual Returns'!$B$4:$B$157,MATCH($A6+30,'Annual Returns'!$A$4:$A$157,0)))-Inputs!$B$2*Inputs!$B$3*(1+Inputs!$B$4)^30)) | AH6: =IF(OR(32>Inputs!$B$5,$B6=""),"",MAX(0,AG6*(1+INDEX('Annual Returns'!$B$4:$B$157,MATCH($A6+31,'Annual Returns'!$A$4:$A$157,0)))-Inputs!$B$2*Inputs!$B$3*(1+Inputs!$B$4)^31)) | AI6: =IF(OR(33>Inputs!$B$5,$B6=""),"",MAX(0,AH6*(1+INDEX('Annual Returns'!$B$4:$B$157,MATCH($A6+32,'Annual Returns'!$A$4:$A$157,0)))-Inputs!$B$2*Inputs!$B$3*(1+Inputs!$B$4)^32)) | AJ6: =IF(OR(34>Inputs!$B$5,$B6=""),"",MAX(0,AI6*(1+INDEX('Annual Returns'!$B$4:$B$157,MATCH($A6+33,'Annual Returns'!$A$4:$A$157,0)))-Inputs!$B$2*Inputs!$B$3*(1+Inputs!$B$4)^33)) | AK6: =IF(OR(35>Inputs!$B$5,$B6=""),"",MAX(0,AJ6*(1+INDEX('Annual Returns'!$B$4:$B$157,MATCH($A6+34,'Annual Returns'!$A$4:$A$157,0)))-Inputs!$B$2*Inputs!$B$3*(1+Inputs!$B$4)^34)) | AL6: =IF(OR(36>Inputs!$B$5,$B6=""),"",MAX(0,AK6*(1+INDEX('Annual Returns'!$B$4:$B$157,MATCH($A6+35,'Annual Returns'!$A$4:$A$157,0)))-Inputs!$B$2*Inputs!$B$3*(1+Inputs!$B$4)^35)) | AM6: =IF(OR(37>Inputs!$B$5,$B6=""),"",MAX(0,AL6*(1+INDEX('Annual Returns'!$B$4:$B$157,MATCH($A6+36,'Annual Returns'!$A$4:$A$157,0)))-Inputs!$B$2*Inputs!$B$3*(1+Inputs!$B$4)^36)) | AN6: =IF(OR(38>Inputs!$B$5,$B6=""),"",MAX(0,AM6*(1+INDEX('Annual Returns'!$B$4:$B$157,MATCH($A6+37,'Annual Returns'!$A$4:$A$157,0)))-Inputs!$B$2*Inputs!$B$3*(1+Inputs!$B$4)^37)) | AO6: =IF(OR(39>Inputs!$B$5,$B6=""),"",MAX(0,AN6*(1+INDEX('Annual Returns'!$B$4:$B$157,MATCH($A6+38,'Annual Returns'!$A$4:$A$157,0)))-Inputs!$B$2*Inputs!$B$3*(1+Inputs!$B$4)^38)) | AP6: =IF(OR(40>Inputs!$B$5,$B6=""),"",MAX(0,AO6*(1+INDEX('Annual Returns'!$B$4:$B$157,MATCH($A6+39,'Annual Returns'!$A$4:$A$157,0)))-Inputs!$B$2*Inputs!$B$3*(1+Inputs!$B$4)^39)) | AQ6: =IF(OR(41>Inputs!$B$5,$B6=""),"",MAX(0,AP6*(1+INDEX('Annual Returns'!$B$4:$B$157,MATCH($A6+40,'Annual Returns'!$A$4:$A$157,0)))-Inputs!$B$2*Inputs!$B$3*(1+Inputs!$B$4)^40)) | AR6: =IF(OR(42>Inputs!$B$5,$B6=""),"",MAX(0,AQ6*(1+INDEX('Annual Returns'!$B$4:$B$157,MATCH($A6+41,'Annual Returns'!$A$4:$A$157,0)))-Inputs!$B$2*Inputs!$B$3*(1+Inputs!$B$4)^41)) | AS6: =IF(OR(43>Inputs!$B$5,$B6=""),"",MAX(0,AR6*(1+INDEX('Annual Returns'!$B$4:$B$157,MATCH($A6+42,'Annual Returns'!$A$4:$A$157,0)))-Inputs!$B$2*Inputs!$B$3*(1+Inputs!$B$4)^42)) | AT6: =IF(OR(44>Inputs!$B$5,$B6=""),"",MAX(0,AS6*(1+INDEX('Annual Returns'!$B$4:$B$157,MATCH($A6+43,'Annual Returns'!$A$4:$A$157,0)))-Inputs!$B$2*Inputs!$B$3*(1+Inputs!$B$4)^43)) | AU6: =IF(OR(45>Inputs!$B$5,$B6=""),"",MAX(0,AT6*(1+INDEX('Annual Returns'!$B$4:$B$157,MATCH($A6+44,'Annual Returns'!$A$4:$A$157,0)))-Inputs!$B$2*Inputs!$B$3*(1+Inputs!$B$4)^44)) | AV6: =IF(OR(46>Inputs!$B$5,$B6=""),"",MAX(0,AU6*(1+INDEX('Annual Returns'!$B$4:$B$157,MATCH($A6+45,'Annual Returns'!$A$4:$A$157,0)))-Inputs!$B$2*Inputs!$B$3*(1+Inputs!$B$4)^45)) | AW6: =IF(OR(47>Inputs!$B$5,$B6=""),"",MAX(0,AV6*(1+INDEX('Annual Returns'!$B$4:$B$157,MATCH($A6+46,'Annual Returns'!$A$4:$A$157,0)))-Inputs!$B$2*Inputs!$B$3*(1+Inputs!$B$4)^46)) | AX6: =IF(OR(48>Inputs!$B$5,$B6=""),"",MAX(0,AW6*(1+INDEX('Annual Returns'!$B$4:$B$157,MATCH($A6+47,'Annual Returns'!$A$4:$A$157,0)))-Inputs!$B$2*Inputs!$B$3*(1+Inputs!$B$4)^47)) | AY6: =IF(OR(49>Inputs!$B$5,$B6=""),"",MAX(0,AX6*(1+INDEX('Annual Returns'!$B$4:$B$157,MATCH($A6+48,'Annual Returns'!$A$4:$A$157,0)))-Inputs!$B$2*Inputs!$B$3*(1+Inputs!$B$4)^48)) | AZ6: =IF(OR(50>Inputs!$B$5,$B6=""),"",MAX(0,AY6*(1+INDEX('Annual Returns'!$B$4:$B$157,MATCH($A6+49,'Annual Returns'!$A$4:$A$157,0)))-Inputs!$B$2*Inputs!$B$3*(1+Inputs!$B$4)^49)) | BA6: =IF(B6="","",INDEX(C6:AZ6,Inputs!$B$5)) | BB6: =IF(BA6="","",IF(BA6>0,1,0)) | BC6: =IF(BB6="","",IF(BB6=1,"",MATCH(0,C6:AZ6,0)))
A7: 1875 | B7: =IF(OR($A7+Inputs!$B$5-1>Inputs!$B$7,Inputs!$B$5>50),"",Inputs!$B$2) | C7: =IF(OR(1>Inputs!$B$5,$B7=""),"",MAX(0,B7*(1+INDEX('Annual Returns'!$B$4:$B$157,MATCH($A7+0,'Annual Returns'!$A$4:$A$157,0)))-Inputs!$B$2*Inputs!$B$3*(1+Inputs!$B$4)^0)) | D7: =IF(OR(2>Inputs!$B$5,$B7=""),"",MAX(0,C7*(1+INDEX('Annual Returns'!$B$4:$B$157,MATCH($A7+1,'Annual Returns'!$A$4:$A$157,0)))-Inputs!$B$2*Inputs!$B$3*(1+Inputs!$B$4)^1)) | E7: =IF(OR(3>Inputs!$B$5,$B7=""),"",MAX(0,D7*(1+INDEX('Annual Returns'!$B$4:$B$157,MATCH($A7+2,'Annual Returns'!$A$4:$A$157,0)))-Inputs!$B$2*Inputs!$B$3*(1+Inputs!$B$4)^2)) | F7: =IF(OR(4>Inputs!$B$5,$B7=""),"",MAX(0,E7*(1+INDEX('Annual Returns'!$B$4:$B$157,MATCH($A7+3,'Annual Returns'!$A$4:$A$157,0)))-Inputs!$B$2*Inputs!$B$3*(1+Inputs!$B$4)^3)) | G7: =IF(OR(5>Inputs!$B$5,$B7=""),"",MAX(0,F7*(1+INDEX('Annual Returns'!$B$4:$B$157,MATCH($A7+4,'Annual Returns'!$A$4:$A$157,0)))-Inputs!$B$2*Inputs!$B$3*(1+Inputs!$B$4)^4)) | H7: =IF(OR(6>Inputs!$B$5,$B7=""),"",MAX(0,G7*(1+INDEX('Annual Returns'!$B$4:$B$157,MATCH($A7+5,'Annual Returns'!$A$4:$A$157,0)))-Inputs!$B$2*Inputs!$B$3*(1+Inputs!$B$4)^5)) | I7: =IF(OR(7>Inputs!$B$5,$B7=""),"",MAX(0,H7*(1+INDEX('Annual Returns'!$B$4:$B$157,MATCH($A7+6,'Annual Returns'!$A$4:$A$157,0)))-Inputs!$B$2*Inputs!$B$3*(1+Inputs!$B$4)^6)) | J7: =IF(OR(8>Inputs!$B$5,$B7=""),"",MAX(0,I7*(1+INDEX('Annual Returns'!$B$4:$B$157,MATCH($A7+7,'Annual Returns'!$A$4:$A$157,0)))-Inputs!$B$2*Inputs!$B$3*(1+Inputs!$B$4)^7)) | K7: =IF(OR(9>Inputs!$B$5,$B7=""),"",MAX(0,J7*(1+INDEX('Annual Returns'!$B$4:$B$157,MATCH($A7+8,'Annual Returns'!$A$4:$A$157,0)))-Inputs!$B$2*Inputs!$B$3*(1+Inputs!$B$4)^8)) | L7: =IF(OR(10>Inputs!$B$5,$B7=""),"",MAX(0,K7*(1+INDEX('Annual Returns'!$B$4:$B$157,MATCH($A7+9,'Annual Returns'!$A$4:$A$157,0)))-Inputs!$B$2*Inputs!$B$3*(1+Inputs!$B$4)^9)) | M7: =IF(OR(11>Inputs!$B$5,$B7=""),"",MAX(0,L7*(1+INDEX('Annual Returns'!$B$4:$B$157,MATCH($A7+10,'Annual Returns'!$A$4:$A$157,0)))-Inputs!$B$2*Inputs!$B$3*(1+Inputs!$B$4)^10)) | N7: =IF(OR(12>Inputs!$B$5,$B7=""),"",MAX(0,M7*(1+INDEX('Annual Returns'!$B$4:$B$157,MATCH($A7+11,'Annual Returns'!$A$4:$A$157,0)))-Inputs!$B$2*Inputs!$B$3*(1+Inputs!$B$4)^11)) | O7: =IF(OR(13>Inputs!$B$5,$B7=""),"",MAX(0,N7*(1+INDEX('Annual Returns'!$B$4:$B$157,MATCH($A7+12,'Annual Returns'!$A$4:$A$157,0)))-Inputs!$B$2*Inputs!$B$3*(1+Inputs!$B$4)^12)) | P7: =IF(OR(14>Inputs!$B$5,$B7=""),"",MAX(0,O7*(1+INDEX('Annual Returns'!$B$4:$B$157,MATCH($A7+13,'Annual Returns'!$A$4:$A$157,0)))-Inputs!$B$2*Inputs!$B$3*(1+Inputs!$B$4)^13)) | Q7: =IF(OR(15>Inputs!$B$5,$B7=""),"",MAX(0,P7*(1+INDEX('Annual Returns'!$B$4:$B$157,MATCH($A7+14,'Annual Returns'!$A$4:$A$157,0)))-Inputs!$B$2*Inputs!$B$3*(1+Inputs!$B$4)^14)) | R7: =IF(OR(16>Inputs!$B$5,$B7=""),"",MAX(0,Q7*(1+INDEX('Annual Returns'!$B$4:$B$157,MATCH($A7+15,'Annual Returns'!$A$4:$A$157,0)))-Inputs!$B$2*Inputs!$B$3*(1+Inputs!$B$4)^15)) | S7: =IF(OR(17>Inputs!$B$5,$B7=""),"",MAX(0,R7*(1+INDEX('Annual Returns'!$B$4:$B$157,MATCH($A7+16,'Annual Returns'!$A$4:$A$157,0)))-Inputs!$B$2*Inputs!$B$3*(1+Inputs!$B$4)^16)) | T7: =IF(OR(18>Inputs!$B$5,$B7=""),"",MAX(0,S7*(1+INDEX('Annual Returns'!$B$4:$B$157,MATCH($A7+17,'Annual Returns'!$A$4:$A$157,0)))-Inputs!$B$2*Inputs!$B$3*(1+Inputs!$B$4)^17)) | U7: =IF(OR(19>Inputs!$B$5,$B7=""),"",MAX(0,T7*(1+INDEX('Annual Returns'!$B$4:$B$157,MATCH($A7+18,'Annual Returns'!$A$4:$A$157,0)))-Inputs!$B$2*Inputs!$B$3*(1+Inputs!$B$4)^18)) | V7: =IF(OR(20>Inputs!$B$5,$B7=""),"",MAX(0,U7*(1+INDEX('Annual Returns'!$B$4:$B$157,MATCH($A7+19,'Annual Returns'!$A$4:$A$157,0)))-Inputs!$B$2*Inputs!$B$3*(1+Inputs!$B$4)^19)) | W7: =IF(OR(21>Inputs!$B$5,$B7=""),"",MAX(0,V7*(1+INDEX('Annual Returns'!$B$4:$B$157,MATCH($A7+20,'Annual Returns'!$A$4:$A$157,0)))-Inputs!$B$2*Inputs!$B$3*(1+Inputs!$B$4)^20)) | X7: =IF(OR(22>Inputs!$B$5,$B7=""),"",MAX(0,W7*(1+INDEX('Annual Returns'!$B$4:$B$157,MATCH($A7+21,'Annual Returns'!$A$4:$A$157,0)))-Inputs!$B$2*Inputs!$B$3*(1+Inputs!$B$4)^21)) | Y7: =IF(OR(23>Inputs!$B$5,$B7=""),"",MAX(0,X7*(1+INDEX('Annual Returns'!$B$4:$B$157,MATCH($A7+22,'Annual Returns'!$A$4:$A$157,0)))-Inputs!$B$2*Inputs!$B$3*(1+Inputs!$B$4)^22)) | Z7: =IF(OR(24>Inputs!$B$5,$B7=""),"",MAX(0,Y7*(1+INDEX('Annual Returns'!$B$4:$B$157,MATCH($A7+23,'Annual Returns'!$A$4:$A$157,0)))-Inputs!$B$2*Inputs!$B$3*(1+Inputs!$B$4)^23)) | AA7: =IF(OR(25>Inputs!$B$5,$B7=""),"",MAX(0,Z7*(1+INDEX('Annual Returns'!$B$4:$B$157,MATCH($A7+24,'Annual Returns'!$A$4:$A$157,0)))-Inputs!$B$2*Inputs!$B$3*(1+Inputs!$B$4)^24)) | AB7: =IF(OR(26>Inputs!$B$5,$B7=""),"",MAX(0,AA7*(1+INDEX('Annual Returns'!$B$4:$B$157,MATCH($A7+25,'Annual Returns'!$A$4:$A$157,0)))-Inputs!$B$2*Inputs!$B$3*(1+Inputs!$B$4)^25)) | AC7: =IF(OR(27>Inputs!$B$5,$B7=""),"",MAX(0,AB7*(1+INDEX('Annual Returns'!$B$4:$B$157,MATCH($A7+26,'Annual Returns'!$A$4:$A$157,0)))-Inputs!$B$2*Inputs!$B$3*(1+Inputs!$B$4)^26)) | AD7: =IF(OR(28>Inputs!$B$5,$B7=""),"",MAX(0,AC7*(1+INDEX('Annual Returns'!$B$4:$B$157,MATCH($A7+27,'Annual Returns'!$A$4:$A$157,0)))-Inputs!$B$2*Inputs!$B$3*(1+Inputs!$B$4)^27)) | AE7: =IF(OR(29>Inputs!$B$5,$B7=""),"",MAX(0,AD7*(1+INDEX('Annual Returns'!$B$4:$B$157,MATCH($A7+28,'Annual Returns'!$A$4:$A$157,0)))-Inputs!$B$2*Inputs!$B$3*(1+Inputs!$B$4)^28)) | AF7: =IF(OR(30>Inputs!$B$5,$B7=""),"",MAX(0,AE7*(1+INDEX('Annual Returns'!$B$4:$B$157,MATCH($A7+29,'Annual Returns'!$A$4:$A$157,0)))-Inputs!$B$2*Inputs!$B$3*(1+Inputs!$B$4)^29)) | AG7: =IF(OR(31>Inputs!$B$5,$B7=""),"",MAX(0,AF7*(1+INDEX('Annual Returns'!$B$4:$B$157,MATCH($A7+30,'Annual Returns'!$A$4:$A$157,0)))-Inputs!$B$2*Inputs!$B$3*(1+Inputs!$B$4)^30)) | AH7: =IF(OR(32>Inputs!$B$5,$B7=""),"",MAX(0,AG7*(1+INDEX('Annual Returns'!$B$4:$B$157,MATCH($A7+31,'Annual Returns'!$A$4:$A$157,0)))-Inputs!$B$2*Inputs!$B$3*(1+Inputs!$B$4)^31)) | AI7: =IF(OR(33>Inputs!$B$5,$B7=""),"",MAX(0,AH7*(1+INDEX('Annual Returns'!$B$4:$B$157,MATCH($A7+32,'Annual Returns'!$A$4:$A$157,0)))-Inputs!$B$2*Inputs!$B$3*(1+Inputs!$B$4)^32)) | AJ7: =IF(OR(34>Inputs!$B$5,$B7=""),"",MAX(0,AI7*(1+INDEX('Annual Returns'!$B$4:$B$157,MATCH($A7+33,'Annual Returns'!$A$4:$A$157,0)))-Inputs!$B$2*Inputs!$B$3*(1+Inputs!$B$4)^33)) | AK7: =IF(OR(35>Inputs!$B$5,$B7=""),"",MAX(0,AJ7*(1+INDEX('Annual Returns'!$B$4:$B$157,MATCH($A7+34,'Annual Returns'!$A$4:$A$157,0)))-Inputs!$B$2*Inputs!$B$3*(1+Inputs!$B$4)^34)) | AL7: =IF(OR(36>Inputs!$B$5,$B7=""),"",MAX(0,AK7*(1+INDEX('Annual Returns'!$B$4:$B$157,MATCH($A7+35,'Annual Returns'!$A$4:$A$157,0)))-Inputs!$B$2*Inputs!$B$3*(1+Inputs!$B$4)^35)) | AM7: =IF(OR(37>Inputs!$B$5,$B7=""),"",MAX(0,AL7*(1+INDEX('Annual Returns'!$B$4:$B$157,MATCH($A7+36,'Annual Returns'!$A$4:$A$157,0)))-Inputs!$B$2*Inputs!$B$3*(1+Inputs!$B$4)^36)) | AN7: =IF(OR(38>Inputs!$B$5,$B7=""),"",MAX(0,AM7*(1+INDEX('Annual Returns'!$B$4:$B$157,MATCH($A7+37,'Annual Returns'!$A$4:$A$157,0)))-Inputs!$B$2*Inputs!$B$3*(1+Inputs!$B$4)^37)) | AO7: =IF(OR(39>Inputs!$B$5,$B7=""),"",MAX(0,AN7*(1+INDEX('Annual Returns'!$B$4:$B$157,MATCH($A7+38,'Annual Returns'!$A$4:$A$157,0)))-Inputs!$B$2*Inputs!$B$3*(1+Inputs!$B$4)^38)) | AP7: =IF(OR(40>Inputs!$B$5,$B7=""),"",MAX(0,AO7*(1+INDEX('Annual Returns'!$B$4:$B$157,MATCH($A7+39,'Annual Returns'!$A$4:$A$157,0)))-Inputs!$B$2*Inputs!$B$3*(1+Inputs!$B$4)^39)) | AQ7: =IF(OR(41>Inputs!$B$5,$B7=""),"",MAX(0,AP7*(1+INDEX('Annual Returns'!$B$4:$B$157,MATCH($A7+40,'Annual Returns'!$A$4:$A$157,0)))-Inputs!$B$2*Inputs!$B$3*(1+Inputs!$B$4)^40)) | AR7: =IF(OR(42>Inputs!$B$5,$B7=""),"",MAX(0,AQ7*(1+INDEX('Annual Returns'!$B$4:$B$157,MATCH($A7+41,'Annual Returns'!$A$4:$A$157,0)))-Inputs!$B$2*Inputs!$B$3*(1+Inputs!$B$4)^41)) | AS7: =IF(OR(43>Inputs!$B$5,$B7=""),"",MAX(0,AR7*(1+INDEX('Annual Returns'!$B$4:$B$157,MATCH($A7+42,'Annual Returns'!$A$4:$A$157,0)))-Inputs!$B$2*Inputs!$B$3*(1+Inputs!$B$4)^42)) | AT7: =IF(OR(44>Inputs!$B$5,$B7=""),"",MAX(0,AS7*(1+INDEX('Annual Returns'!$B$4:$B$157,MATCH($A7+43,'Annual Returns'!$A$4:$A$157,0)))-Inputs!$B$2*Inputs!$B$3*(1+Inputs!$B$4)^43)) | AU7: =IF(OR(45>Inputs!$B$5,$B7=""),"",MAX(0,AT7*(1+INDEX('Annual Returns'!$B$4:$B$157,MATCH($A7+44,'Annual Returns'!$A$4:$A$157,0)))-Inputs!$B$2*Inputs!$B$3*(1+Inputs!$B$4)^44)) | AV7: =IF(OR(46>Inputs!$B$5,$B7=""),"",MAX(0,AU7*(1+INDEX('Annual Returns'!$B$4:$B$157,MATCH($A7+45,'Annual Returns'!$A$4:$A$157,0)))-Inputs!$B$2*Inputs!$B$3*(1+Inputs!$B$4)^45)) | AW7: =IF(OR(47>Inputs!$B$5,$B7=""),"",MAX(0,AV7*(1+INDEX('Annual Returns'!$B$4:$B$157,MATCH($A7+46,'Annual Returns'!$A$4:$A$157,0)))-Inputs!$B$2*Inputs!$B$3*(1+Inputs!$B$4)^46)) | AX7: =IF(OR(48>Inputs!$B$5,$B7=""),"",MAX(0,AW7*(1+INDEX('Annual Returns'!$B$4:$B$157,MATCH($A7+47,'Annual Returns'!$A$4:$A$157,0)))-Inputs!$B$2*Inputs!$B$3*(1+Inputs!$B$4)^47)) | AY7: =IF(OR(49>Inputs!$B$5,$B7=""),"",MAX(0,AX7*(1+INDEX('Annual Returns'!$B$4:$B$157,MATCH($A7+48,'Annual Returns'!$A$4:$A$157,0)))-Inputs!$B$2*Inputs!$B$3*(1+Inputs!$B$4)^48)) | AZ7: =IF(OR(50>Inputs!$B$5,$B7=""),"",MAX(0,AY7*(1+INDEX('Annual Returns'!$B$4:$B$157,MATCH($A7+49,'Annual Returns'!$A$4:$A$157,0)))-Inputs!$B$2*Inputs!$B$3*(1+Inputs!$B$4)^49)) | BA7: =IF(B7="","",INDEX(C7:AZ7,Inputs!$B$5)) | BB7: =IF(BA7="","",IF(BA7>0,1,0)) | BC7: =IF(BB7="","",IF(BB7=1,"",MATCH(0,C7:AZ7,0)))
A8: 1876 | B8: =IF(OR($A8+Inputs!$B$5-1>Inputs!$B$7,Inputs!$B$5>50),"",Inputs!$B$2) | C8: =IF(OR(1>Inputs!$B$5,$B8=""),"",MAX(0,B8*(1+INDEX('Annual Returns'!$B$4:$B$157,MATCH($A8+0,'Annual Returns'!$A$4:$A$157,0)))-Inputs!$B$2*Inputs!$B$3*(1+Inputs!$B$4)^0)) | D8: =IF(OR(2>Inputs!$B$5,$B8=""),"",MAX(0,C8*(1+INDEX('Annual Returns'!$B$4:$B$157,MATCH($A8+1,'Annual Returns'!$A$4:$A$157,0)))-Inputs!$B$2*Inputs!$B$3*(1+Inputs!$B$4)^1)) | E8: =IF(OR(3>Inputs!$B$5,$B8=""),"",MAX(0,D8*(1+INDEX('Annual Returns'!$B$4:$B$157,MATCH($A8+2,'Annual Returns'!$A$4:$A$157,0)))-Inputs!$B$2*Inputs!$B$3*(1+Inputs!$B$4)^2)) | F8: =IF(OR(4>Inputs!$B$5,$B8=""),"",MAX(0,E8*(1+INDEX('Annual Returns'!$B$4:$B$157,MATCH($A8+3,'Annual Returns'!$A$4:$A$157,0)))-Inputs!$B$2*Inputs!$B$3*(1+Inputs!$B$4)^3)) | G8: =IF(OR(5>Inputs!$B$5,$B8=""),"",MAX(0,F8*(1+INDEX('Annual Returns'!$B$4:$B$157,MATCH($A8+4,'Annual Returns'!$A$4:$A$157,0)))-Inputs!$B$2*Inputs!$B$3*(1+Inputs!$B$4)^4)) | H8: =IF(OR(6>Inputs!$B$5,$B8=""),"",MAX(0,G8*(1+INDEX('Annual Returns'!$B$4:$B$157,MATCH($A8+5,'Annual Returns'!$A$4:$A$157,0)))-Inputs!$B$2*Inputs!$B$3*(1+Inputs!$B$4)^5)) | I8: =IF(OR(7>Inputs!$B$5,$B8=""),"",MAX(0,H8*(1+INDEX('Annual Returns'!$B$4:$B$157,MATCH($A8+6,'Annual Returns'!$A$4:$A$157,0)))-Inputs!$B$2*Inputs!$B$3*(1+Inputs!$B$4)^6)) | J8: =IF(OR(8>Inputs!$B$5,$B8=""),"",MAX(0,I8*(1+INDEX('Annual Returns'!$B$4:$B$157,MATCH($A8+7,'Annual Returns'!$A$4:$A$157,0)))-Inputs!$B$2*Inputs!$B$3*(1+Inputs!$B$4)^7)) | K8: =IF(OR(9>Inputs!$B$5,$B8=""),"",MAX(0,J8*(1+INDEX('Annual Returns'!$B$4:$B$157,MATCH($A8+8,'Annual Returns'!$A$4:$A$157,0)))-Inputs!$B$2*Inputs!$B$3*(1+Inputs!$B$4)^8)) | L8: =IF(OR(10>Inputs!$B$5,$B8=""),"",MAX(0,K8*(1+INDEX('Annual Returns'!$B$4:$B$157,MATCH($A8+9,'Annual Returns'!$A$4:$A$157,0)))-Inputs!$B$2*Inputs!$B$3*(1+Inputs!$B$4)^9)) | M8: =IF(OR(11>Inputs!$B$5,$B8=""),"",MAX(0,L8*(1+INDEX('Annual Returns'!$B$4:$B$157,MATCH($A8+10,'Annual Returns'!$A$4:$A$157,0)))-Inputs!$B$2*Inputs!$B$3*(1+Inputs!$B$4)^10)) | N8: =IF(OR(12>Inputs!$B$5,$B8=""),"",MAX(0,M8*(1+INDEX('Annual Returns'!$B$4:$B$157,MATCH($A8+11,'Annual Returns'!$A$4:$A$157,0)))-Inputs!$B$2*Inputs!$B$3*(1+Inputs!$B$4)^11)) | O8: =IF(OR(13>Inputs!$B$5,$B8=""),"",MAX(0,N8*(1+INDEX('Annual Returns'!$B$4:$B$157,MATCH($A8+12,'Annual Returns'!$A$4:$A$157,0)))-Inputs!$B$2*Inputs!$B$3*(1+Inputs!$B$4)^12)) | P8: =IF(OR(14>Inputs!$B$5,$B8=""),"",MAX(0,O8*(1+INDEX('Annual Returns'!$B$4:$B$157,MATCH($A8+13,'Annual Returns'!$A$4:$A$157,0)))-Inputs!$B$2*Inputs!$B$3*(1+Inputs!$B$4)^13)) | Q8: =IF(OR(15>Inputs!$B$5,$B8=""),"",MAX(0,P8*(1+INDEX('Annual Returns'!$B$4:$B$157,MATCH($A8+14,'Annual Returns'!$A$4:$A$157,0)))-Inputs!$B$2*Inputs!$B$3*(1+Inputs!$B$4)^14)) | R8: =IF(OR(16>Inputs!$B$5,$B8=""),"",MAX(0,Q8*(1+INDEX('Annual Returns'!$B$4:$B$157,MATCH($A8+15,'Annual Returns'!$A$4:$A$157,0)))-Inputs!$B$2*Inputs!$B$3*(1+Inputs!$B$4)^15)) | S8: =IF(OR(17>Inputs!$B$5,$B8=""),"",MAX(0,R8*(1+INDEX('Annual Returns'!$B$4:$B$157,MATCH($A8+16,'Annual Returns'!$A$4:$A$157,0)))-Inputs!$B$2*Inputs!$B$3*(1+Inputs!$B$4)^16)) | T8: =IF(OR(18>Inputs!$B$5,$B8=""),"",MAX(0,S8*(1+INDEX('Annual Returns'!$B$4:$B$157,MATCH($A8+17,'Annual Returns'!$A$4:$A$157,0)))-Inputs!$B$2*Inputs!$B$3*(1+Inputs!$B$4)^17)) | U8: =IF(OR(19>Inputs!$B$5,$B8=""),"",MAX(0,T8*(1+INDEX('Annual Returns'!$B$4:$B$157,MATCH($A8+18,'Annual Returns'!$A$4:$A$157,0)))-Inputs!$B$2*Inputs!$B$3*(1+Inputs!$B$4)^18)) | V8: =IF(OR(20>Inputs!$B$5,$B8=""),"",MAX(0,U8*(1+INDEX('Annual Returns'!$B$4:$B$157,MATCH($A8+19,'Annual Returns'!$A$4:$A$157,0)))-Inputs!$B$2*Inputs!$B$3*(1+Inputs!$B$4)^19)) | W8: =IF(OR(21>Inputs!$B$5,$B8=""),"",MAX(0,V8*(1+INDEX('Annual Returns'!$B$4:$B$157,MATCH($A8+20,'Annual Returns'!$A$4:$A$157,0)))-Inputs!$B$2*Inputs!$B$3*(1+Inputs!$B$4)^20)) | X8: =IF(OR(22>Inputs!$B$5,$B8=""),"",MAX(0,W8*(1+INDEX('Annual Returns'!$B$4:$B$157,MATCH($A8+21,'Annual Returns'!$A$4:$A$157,0)))-Inputs!$B$2*Inputs!$B$3*(1+Inputs!$B$4)^21)) | Y8: =IF(OR(23>Inputs!$B$5,$B8=""),"",MAX(0,X8*(1+INDEX('Annual Returns'!$B$4:$B$157,MATCH($A8+22,'Annual Returns'!$A$4:$A$157,0)))-Inputs!$B$2*Inputs!$B$3*(1+Inputs!$B$4)^22)) | Z8: =IF(OR(24>Inputs!$B$5,$B8=""),"",MAX(0,Y8*(1+INDEX('Annual Returns'!$B$4:$B$157,MATCH($A8+23,'Annual Returns'!$A$4:$A$157,0)))-Inputs!$B$2*Inputs!$B$3*(1+Inputs!$B$4)^23)) | AA8: =IF(OR(25>Inputs!$B$5,$B8=""),"",MAX(0,Z8*(1+INDEX('Annual Returns'!$B$4:$B$157,MATCH($A8+24,'Annual Returns'!$A$4:$A$157,0)))-Inputs!$B$2*Inputs!$B$3*(1+Inputs!$B$4)^24)) | AB8: =IF(OR(26>Inputs!$B$5,$B8=""),"",MAX(0,AA8*(1+INDEX('Annual Returns'!$B$4:$B$157,MATCH($A8+25,'Annual Returns'!$A$4:$A$157,0)))-Inputs!$B$2*Inputs!$B$3*(1+Inputs!$B$4)^25)) | AC8: =IF(OR(27>Inputs!$B$5,$B8=""),"",MAX(0,AB8*(1+INDEX('Annual Returns'!$B$4:$B$157,MATCH($A8+26,'Annual Returns'!$A$4:$A$157,0)))-Inputs!$B$2*Inputs!$B$3*(1+Inputs!$B$4)^26)) | AD8: =IF(OR(28>Inputs!$B$5,$B8=""),"",MAX(0,AC8*(1+INDEX('Annual Returns'!$B$4:$B$157,MATCH($A8+27,'Annual Returns'!$A$4:$A$157,0)))-Inputs!$B$2*Inputs!$B$3*(1+Inputs!$B$4)^27)) | AE8: =IF(OR(29>Inputs!$B$5,$B8=""),"",MAX(0,AD8*(1+INDEX('Annual Returns'!$B$4:$B$157,MATCH($A8+28,'Annual Returns'!$A$4:$A$157,0)))-Inputs!$B$2*Inputs!$B$3*(1+Inputs!$B$4)^28)) | AF8: =IF(OR(30>Inputs!$B$5,$B8=""),"",MAX(0,AE8*(1+INDEX('Annual Returns'!$B$4:$B$157,MATCH($A8+29,'Annual Returns'!$A$4:$A$157,0)))-Inputs!$B$2*Inputs!$B$3*(1+Inputs!$B$4)^29)) | AG8: =IF(OR(31>Inputs!$B$5,$B8=""),"",MAX(0,AF8*(1+INDEX('Annual Returns'!$B$4:$B$157,MATCH($A8+30,'Annual Returns'!$A$4:$A$157,0)))-Inputs!$B$2*Inputs!$B$3*(1+Inputs!$B$4)^30)) | AH8: =IF(OR(32>Inputs!$B$5,$B8=""),"",MAX(0,AG8*(1+INDEX('Annual Returns'!$B$4:$B$157,MATCH($A8+31,'Annual Returns'!$A$4:$A$157,0)))-Inputs!$B$2*Inputs!$B$3*(1+Inputs!$B$4)^31)) | AI8: =IF(OR(33>Inputs!$B$5,$B8=""),"",MAX(0,AH8*(1+INDEX('Annual Returns'!$B$4:$B$157,MATCH($A8+32,'Annual Returns'!$A$4:$A$157,0)))-Inputs!$B$2*Inputs!$B$3*(1+Inputs!$B$4)^32)) | AJ8: =IF(OR(34>Inputs!$B$5,$B8=""),"",MAX(0,AI8*(1+INDEX('Annual Returns'!$B$4:$B$157,MATCH($A8+33,'Annual Returns'!$A$4:$A$157,0)))-Inputs!$B$2*Inputs!$B$3*(1+Inputs!$B$4)^33)) | AK8: =IF(OR(35>Inputs!$B$5,$B8=""),"",MAX(0,AJ8*(1+INDEX('Annual Returns'!$B$4:$B$157,MATCH($A8+34,'Annual Returns'!$A$4:$A$157,0)))-Inputs!$B$2*Inputs!$B$3*(1+Inputs!$B$4)^34)) | AL8: =IF(OR(36>Inputs!$B$5,$B8=""),"",MAX(0,AK8*(1+INDEX('Annual Returns'!$B$4:$B$157,MATCH($A8+35,'Annual Returns'!$A$4:$A$157,0)))-Inputs!$B$2*Inputs!$B$3*(1+Inputs!$B$4)^35)) | AM8: =IF(OR(37>Inputs!$B$5,$B8=""),"",MAX(0,AL8*(1+INDEX('Annual Returns'!$B$4:$B$157,MATCH($A8+36,'Annual Returns'!$A$4:$A$157,0)))-Inputs!$B$2*Inputs!$B$3*(1+Inputs!$B$4)^36)) | AN8: =IF(OR(38>Inputs!$B$5,$B8=""),"",MAX(0,AM8*(1+INDEX('Annual Returns'!$B$4:$B$157,MATCH($A8+37,'Annual Returns'!$A$4:$A$157,0)))-Inputs!$B$2*Inputs!$B$3*(1+Inputs!$B$4)^37)) | AO8: =IF(OR(39>Inputs!$B$5,$B8=""),"",MAX(0,AN8*(1+INDEX('Annual Returns'!$B$4:$B$157,MATCH($A8+38,'Annual Returns'!$A$4:$A$157,0)))-Inputs!$B$2*Inputs!$B$3*(1+Inputs!$B$4)^38)) | AP8: =IF(OR(40>Inputs!$B$5,$B8=""),"",MAX(0,AO8*(1+INDEX('Annual Returns'!$B$4:$B$157,MATCH($A8+39,'Annual Returns'!$A$4:$A$157,0)))-Inputs!$B$2*Inputs!$B$3*(1+Inputs!$B$4)^39)) | AQ8: =IF(OR(41>Inputs!$B$5,$B8=""),"",MAX(0,AP8*(1+INDEX('Annual Returns'!$B$4:$B$157,MATCH($A8+40,'Annual Returns'!$A$4:$A$157,0)))-Inputs!$B$2*Inputs!$B$3*(1+Inputs!$B$4)^40)) | AR8: =IF(OR(42>Inputs!$B$5,$B8=""),"",MAX(0,AQ8*(1+INDEX('Annual Returns'!$B$4:$B$157,MATCH($A8+41,'Annual Returns'!$A$4:$A$157,0)))-Inputs!$B$2*Inputs!$B$3*(1+Inputs!$B$4)^41)) | AS8: =IF(OR(43>Inputs!$B$5,$B8=""),"",MAX(0,AR8*(1+INDEX('Annual Returns'!$B$4:$B$157,MATCH($A8+42,'Annual Returns'!$A$4:$A$157,0)))-Inputs!$B$2*Inputs!$B$3*(1+Inputs!$B$4)^42)) | AT8: =IF(OR(44>Inputs!$B$5,$B8=""),"",MAX(0,AS8*(1+INDEX('Annual Returns'!$B$4:$B$157,MATCH($A8+43,'Annual Returns'!$A$4:$A$157,0)))-Inputs!$B$2*Inputs!$B$3*(1+Inputs!$B$4)^43)) | AU8: =IF(OR(45>Inputs!$B$5,$B8=""),"",MAX(0,AT8*(1+INDEX('Annual Returns'!$B$4:$B$157,MATCH($A8+44,'Annual Returns'!$A$4:$A$157,0)))-Inputs!$B$2*Inputs!$B$3*(1+Inputs!$B$4)^44)) | AV8: =IF(OR(46>Inputs!$B$5,$B8=""),"",MAX(0,AU8*(1+INDEX('Annual Returns'!$B$4:$B$157,MATCH($A8+45,'Annual Returns'!$A$4:$A$157,0)))-Inputs!$B$2*Inputs!$B$3*(1+Inputs!$B$4)^45)) | AW8: =IF(OR(47>Inputs!$B$5,$B8=""),"",MAX(0,AV8*(1+INDEX('Annual Returns'!$B$4:$B$157,MATCH($A8+46,'Annual Returns'!$A$4:$A$157,0)))-Inputs!$B$2*Inputs!$B$3*(1+Inputs!$B$4)^46)) | AX8: =IF(OR(48>Inputs!$B$5,$B8=""),"",MAX(0,AW8*(1+INDEX('Annual Returns'!$B$4:$B$157,MATCH($A8+47,'Annual Returns'!$A$4:$A$157,0)))-Inputs!$B$2*Inputs!$B$3*(1+Inputs!$B$4)^47)) | AY8: =IF(OR(49>Inputs!$B$5,$B8=""),"",MAX(0,AX8*(1+INDEX('Annual Returns'!$B$4:$B$157,MATCH($A8+48,'Annual Returns'!$A$4:$A$157,0)))-Inputs!$B$2*Inputs!$B$3*(1+Inputs!$B$4)^48)) | AZ8: =IF(OR(50>Inputs!$B$5,$B8=""),"",MAX(0,AY8*(1+INDEX('Annual Returns'!$B$4:$B$157,MATCH($A8+49,'Annual Returns'!$A$4:$A$157,0)))-Inputs!$B$2*Inputs!$B$3*(1+Inputs!$B$4)^49)) | BA8: =IF(B8="","",INDEX(C8:AZ8,Inputs!$B$5)) | BB8: =IF(BA8="","",IF(BA8>0,1,0)) | BC8: =IF(BB8="","",IF(BB8=1,"",MATCH(0,C8:AZ8,0)))
